{
 "currentVersion": 10.91,
 "serviceDescription": "Prikaz arheološke topografije (VAT General).\n\nPrikaz podatkov aerolaserskega skeniranja (lidarskih podatkov) Slovenije je namenjen arheološkemu pregledovanju. Izračunan je iz modela višin v ločljivosti 0,5 m s programov Relief Visualization Toolbox (ZRC SAZU). Kombinira več metod prikazov in je prilagojen vidnosti majhnih topografskih razlik. Za boljšo orientacijo v prostoru so na terenu ohranjene stavbe. Prikaz je zelo uporaben tudi pri načrtovanju pohodov po gozdnih poteh in kot kartografska podlaga. Izračun prikaza je deloma financirala Agencija za raziskovalno dejavnost v okviru programa Opazovanje Zemlje in geoinformatika (P2-0406) in projekta Metodološka zrelost zračnega laserskega skeniranja v arheologiji \u2013 pilotni projekt (N6-0132).\n\nVir: Kokalj Žiga, and Maja Somrak. 2019. Why Not a Single Image? Combining Visualizations to Facilitate Fieldwork and On-Screen Mapping. Remote Sensing 11 (7): 747. https://doi.org/10.3390/rs11070747.\n\nOrodje je dostopno: https://github.com/EarthObservation/RVT.",
 "mapName": "Layers",
 "description": "",
 "copyrightText": "MK, ZRC SAZU",
 "supportsDynamicLayers": false,
 "layers": [
  {
   "id": 0,
   "name": "obroba_lidar",
   "parentLayerId": -1,
   "defaultVisibility": true,
   "subLayerIds": null,
   "minScale": 0,
   "maxScale": 0,
   "type": "Feature Layer",
   "geometryType": "esriGeometryPolygon"
  },
  {
   "id": 1,
   "name": "Lidar_TlaZgradbe_D96",
   "parentLayerId": -1,
   "defaultVisibility": true,
   "subLayerIds": null,
   "minScale": 0,
   "maxScale": 0,
   "type": "Raster Catalog Layer",
   "geometryType": "esriGeometryPolygon"
  }
 ],
 "tables": [],
 "spatialReference": {
  "wkid": 3794,
  "latestWkid": 3794
 },
 "singleFusedMapCache": true,
 "tileInfo": {
  "rows": 256,
  "cols": 256,
  "dpi": 96,
  "format": "MIXED",
  "compressionQuality": 75,
  "origin": {
   "x": -5122600,
   "y": 5001100
  },
  "spatialReference": {
   "wkid": 3794,
   "latestWkid": 3794
  },
  "lods": [
   {
    "level": 0,
    "resolution": 138718.1441029549,
    "scale": 524288000
   },
   {
    "level": 1,
    "resolution": 69359.07205147744,
    "scale": 262144000
   },
   {
    "level": 2,
    "resolution": 34679.53602573872,
    "scale": 131072000
   },
   {
    "level": 3,
    "resolution": 17339.76801286936,
    "scale": 65536000
   },
   {
    "level": 4,
    "resolution": 8669.88400643468,
    "scale": 32768000
   },
   {
    "level": 5,
    "resolution": 4334.94200321734,
    "scale": 16384000
   },
   {
    "level": 6,
    "resolution": 2167.47100160867,
    "scale": 8192000
   },
   {
    "level": 7,
    "resolution": 1083.735500804335,
    "scale": 4096000
   },
   {
    "level": 8,
    "resolution": 541.8677504021675,
    "scale": 2048000
   },
   {
    "level": 9,
    "resolution": 270.93387520108377,
    "scale": 1024000
   },
   {
    "level": 10,
    "resolution": 135.46693760054188,
    "scale": 512000
   },
   {
    "level": 11,
    "resolution": 67.73346880027094,
    "scale": 256000
   },
   {
    "level": 12,
    "resolution": 33.86673440013547,
    "scale": 128000
   },
   {
    "level": 13,
    "resolution": 16.933367200067735,
    "scale": 64000
   },
   {
    "level": 14,
    "resolution": 8.466683600033868,
    "scale": 32000
   },
   {
    "level": 15,
    "resolution": 4.233341800016934,
    "scale": 16000
   },
   {
    "level": 16,
    "resolution": 2.116670900008467,
    "scale": 8000
   },
   {
    "level": 17,
    "resolution": 1.0583354500042335,
    "scale": 4000
   },
   {
    "level": 18,
    "resolution": 0.5291677250021167,
    "scale": 2000
   },
   {
    "level": 19,
    "resolution": 0.26458386250105836,
    "scale": 1000
   },
   {
    "level": 20,
    "resolution": 0.13229193125052918,
    "scale": 500
   },
   {
    "level": 21,
    "resolution": 0.06614596562526459,
    "scale": 250
   },
   {
    "level": 22,
    "resolution": 0.033072982812632296,
    "scale": 125
   },
   {
    "level": 23,
    "resolution": 0.016536491406316148,
    "scale": 62.5
   }
  ]
 },
 "initialExtent": {
  "xmin": 370428.34020798106,
  "ymin": 127543.39772187683,
  "xmax": 382268.6309760009,
  "ymax": 131764.3575184762,
  "spatialReference": {
   "wkid": 3794,
   "latestWkid": 3794
  }
 },
 "fullExtent": {
  "xmin": 312177.2566999998,
  "ymin": -15240.086600000039,
  "xmax": 669539.8284,
  "ymax": 229588.78959999979,
  "spatialReference": {
   "wkid": 3794,
   "latestWkid": 3794
  }
 },
 "minScale": 524288000,
 "maxScale": 1,
 "units": "esriMeters",
 "supportedImageFormatTypes": "PNG32,PNG24,PNG,JPG,DIB,TIFF,EMF,PS,PDF,GIF,SVG,SVGZ,BMP",
 "documentInfo": {
  "Title": "",
  "Author": "",
  "Comments": "Lidar snemanje - tla in zgradbe",
  "Subject": "Lidar snemanje - tla in zgradbe",
  "Category": "",
  "AntialiasingMode": "None",
  "TextAntialiasingMode": "Force",
  "Keywords": "D96,Lidar, VAT"
 },
 "capabilities": "Map,Query,Data",
 "supportedQueryFormats": "JSON, geoJSON",
 "exportTilesAllowed": false,
 "referenceScale": 0,
 "supportsDatumTransformation": true,
 "maxRecordCount": 1000,
 "maxImageHeight": 4096,
 "maxImageWidth": 4096,
 "supportedExtensions": "",
 "resampling": true,
 "serviceItemId": "963f9fb1bd4246b3972bcf9b92c416aa"
}
