{
 "currentVersion": 11.3,
 "serviceDescription": "TEMELJNI_RASTRI/DMR10",
 "name": "TEMELJNI_RASTRI/DMR10",
 "description": "",
 "extent": {
  "xmin": 374839.96,
  "ymin": 31289.929999999993,
  "xmax": 622609.96,
  "ymax": 193759.92999999996,
  "spatialReference": {
   "wkid": 3794,
   "latestWkid": 3794
  }
 },
 "initialExtent": {
  "xmin": 374839.96,
  "ymin": 31289.929999999993,
  "xmax": 622609.96,
  "ymax": 193759.92999999996,
  "spatialReference": {
   "wkid": 3794,
   "latestWkid": 3794
  }
 },
 "fullExtent": {
  "xmin": 374839.96,
  "ymin": 31289.929999999993,
  "xmax": 622609.96,
  "ymax": 193759.92999999996,
  "spatialReference": {
   "wkid": 3794,
   "latestWkid": 3794
  }
 },
 "sortableFields": "",
 "bandCount": 1,
 "pixelType": "F32",
 "minValues": [
  -378.87799072266
 ],
 "maxValues": [
  2862.2229003906
 ],
 "meanValues": [
  556.47612242038
 ],
 "stdvValues": [
  358.09266253863
 ],
 "hasMultidimensions": false,
 "pixelSizeX": 9.999999999999998,
 "pixelSizeY": 9.999999999999998,
 "meanPixelSize": 9.999999999999998,
 "datasetFormat": "TIFF",
 "uncompressedSize": 1610207676,
 "blockWidth": 128,
 "blockHeight": 128,
 "compressionType": "None",
 "bandNames": [
  "Band_1"
 ],
 "allowCopy": true,
 "allowAnalysis": true,
 "itemAccess": false,
 "inspectionCapabilities": "",
 "noDataValue": -3.4028234663852886E38,
 "noDataValues": [
  -3.4028234663852886E38
 ],
 "minPixelSize": 2.6458386250105835E-4,
 "maxPixelSize": 138718.1441029549,
 "copyrightText": "",
 "serviceDataType": "esriImageServiceDataTypeGeneric",
 "serviceSourceType": "esriImageServiceSourceTypeDataset",
 "objectIdField": "",
 "fields": [],
 "capabilities": "Mensuration,Image,Metadata",
 "defaultMosaicMethod": "Center",
 "allowedMosaicMethods": "",
 "sortField": "",
 "sortValue": null,
 "sortAscending": true,
 "mosaicOperator": "First",
 "defaultCompressionQuality": 10000,
 "defaultResamplingMethod": "Bilinear",
 "maxImageHeight": 4100,
 "maxImageWidth": 15000,
 "singleFusedMapCache": true,
 "tileInfo": {
  "rows": 256,
  "cols": 256,
  "dpi": 96,
  "format": "LERC",
  "compressionQuality": 0,
  "lercError": 0.01,
  "origin": {
   "x": -5122600,
   "y": 5001100
  },
  "spatialReference": {
   "wkid": 3794,
   "latestWkid": 3794
  },
  "lods": [
   {
    "level": 0,
    "resolution": 138718.1441029549,
    "scale": 524288000
   },
   {
    "level": 1,
    "resolution": 69359.07205147744,
    "scale": 262144000
   },
   {
    "level": 2,
    "resolution": 34679.53602573872,
    "scale": 131072000
   },
   {
    "level": 3,
    "resolution": 17339.76801286936,
    "scale": 65536000
   },
   {
    "level": 4,
    "resolution": 8669.88400643468,
    "scale": 32768000
   },
   {
    "level": 5,
    "resolution": 4334.94200321734,
    "scale": 16384000
   },
   {
    "level": 6,
    "resolution": 2167.47100160867,
    "scale": 8192000
   },
   {
    "level": 7,
    "resolution": 1083.735500804335,
    "scale": 4096000
   },
   {
    "level": 8,
    "resolution": 541.8677504021675,
    "scale": 2048000
   },
   {
    "level": 9,
    "resolution": 270.93387520108377,
    "scale": 1024000
   },
   {
    "level": 10,
    "resolution": 135.46693760054188,
    "scale": 512000
   },
   {
    "level": 11,
    "resolution": 67.73346880027094,
    "scale": 256000
   },
   {
    "level": 12,
    "resolution": 33.86673440013547,
    "scale": 128000
   },
   {
    "level": 13,
    "resolution": 16.933367200067735,
    "scale": 64000
   },
   {
    "level": 14,
    "resolution": 8.466683600033868,
    "scale": 32000
   },
   {
    "level": 15,
    "resolution": 4.233341800016934,
    "scale": 16000
   },
   {
    "level": 16,
    "resolution": 2.116670900008467,
    "scale": 8000
   },
   {
    "level": 17,
    "resolution": 1.0583354500042335,
    "scale": 4000
   },
   {
    "level": 18,
    "resolution": 0.5291677250021167,
    "scale": 2000
   },
   {
    "level": 19,
    "resolution": 0.26458386250105836,
    "scale": 1000
   },
   {
    "level": 20,
    "resolution": 0.13229193125052918,
    "scale": 500
   },
   {
    "level": 21,
    "resolution": 0.06614596562526459,
    "scale": 250
   },
   {
    "level": 22,
    "resolution": 0.033072982812632296,
    "scale": 125
   },
   {
    "level": 23,
    "resolution": 0.016536491406316148,
    "scale": 62.5
   }
  ]
 },
 "storageInfo": {
  "storageFormat": "esriMapCacheStorageModeCompactV2",
  "packetSize": 128
 },
 "cacheType": "Elevation",
 "allowRasterFunction": true,
 "rasterFunctionInfos": [
  {
   "name": "None",
   "description": "",
   "help": ""
  }
 ],
 "rasterTypeInfos": [
  {
   "name": "Raster Dataset",
   "description": "Supports all ArcGIS Raster Datasets",
   "help": ""
  }
 ],
 "mensurationCapabilities": "Basic",
 "hasHistograms": true,
 "hasColormap": false,
 "hasRasterAttributeTable": false,
 "minScale": 524288000,
 "maxScale": 1,
 "minLOD": 0,
 "maxLOD": 17,
 "exportTilesAllowed": false,
 "supportsStatistics": false,
 "supportsAdvancedQueries": false,
 "editFieldsInfo": null,
 "ownershipBasedAccessControlForRasters": null,
 "allowComputeTiePoints": false,
 "useStandardizedQueries": true,
 "advancedQueryCapabilities": {
  "useStandardizedQueries": true,
  "supportsStatistics": false,
  "supportsOrderBy": false,
  "supportsDistinct": false,
  "supportsPagination": false
 },
 "spatialReference": {
  "wkid": 3794,
  "latestWkid": 3794
 },
 "resampling": true
}
