View In:
ArcGIS JavaScript
ArcGIS Online Map Viewer
ArcGIS Earth
Service Description: TEMELJNI_RASTRI/DMR1
Name: TEMELJNI_RASTRI/DMR1
Description:
Single Fused Map Cache: true
Tile Info:
- Height: 256
- Width: 256
- DPI: 96
-
Levels of Detail: 24
- Format: LERC
- Compression Quality: 0.0
- LERC Error: 0.01
- Origin: X: -5122600.0
Y: 5001100.0
- Spatial Reference: 3794
(3794)
LatestVCSWkid(0)
Storage Info:
- Storage Format: esriMapCacheStorageModeCompactV2
- Packet Size: 128
Extent:
XMin: 374846.96
YMin: 31291.929999999993
XMax: 622607.96
YMax: 193755.92999999996
Spatial Reference: 3794
(3794)
LatestVCSWkid(0)
Initial Extent:
XMin: 374846.96
YMin: 31291.929999999993
XMax: 622607.96
YMax: 193755.92999999996
Spatial Reference: 3794
(3794)
LatestVCSWkid(0)
Full Extent:
XMin: 374846.96
YMin: 31291.929999999993
XMax: 622607.96
YMax: 193755.92999999996
Spatial Reference: 3794
(3794)
LatestVCSWkid(0)
Pixel Size X: 0.9999999999999998
Pixel Size Y: 0.9999999999999998
Band Count: 1
Pixel Type: F32
RasterFunction Infos: {"rasterFunctionInfos": [{
"name": "None",
"description": "",
"help": ""
}]}
Mensuration Capabilities: Basic
Inspection Capabilities:
Has Histograms: true
Has Colormap: false
Has Multi Dimensions : false
Rendering Rule:
Min Scale: 524288000
Max Scale: 1
Min LOD: 0
Max LOD: 17
Resampling: true
Copyright Text:
Service Data Type: esriImageServiceDataTypeGeneric
Min Values: -380.92498779297
Max Values: 2863.5600585938
Mean Values: 556.39960701294
Standard Deviation Values: 358.1595462461
Object ID Field:
Fields:
None
Default Mosaic Method: Center
Allowed Mosaic Methods:
SortField:
SortValue: null
Mosaic Operator: First
Default Compression Quality: 10000
Default Resampling Method: Bilinear
Max Record Count: null
Max Image Height: 4100
Max Image Width: 15000
Max Download Image Count: null
Max Mosaic Image Count: null
Allow Raster Function: true
Allow Copy: true
Allow Analysis: true
Allow Compute TiePoints: false
Supports Statistics: false
Supports Advanced Queries: false
Use StandardizedQueries: true
Raster Type Infos:
Name: Raster Dataset
Description: Supports all ArcGIS Raster Datasets
Help:
Has Raster Attribute Table: false
Edit Fields Info: null
Ownership Based AccessControl For Rasters: null
Child Resources:
Info
Histograms
Statistics
Key Properties
Legend
Raster Function Infos
Supported Operations:
Export Image
Identify
Measure
Compute Histograms
Compute Statistics Histograms
Get Samples
Compute Class Statistics
Query Boundary
Compute Pixel Location
Compute Angles
Validate
Project